BEGIN:VCALENDAR
VERSION:2.0
PRODID:-//Tukios.com/
BEGIN:VEVENT
UID:7b15e312-cc9d-434e-8d62-6f55e6d9ea11@www.binkleyrossfh.com
DTSTAMP:20260422T082123Z
DTSTART:20260424T150000Z
DTEND:20260424T160000Z
SUMMARY:Graveside Service
DESCRIPTION:
URL:https://www.binkleyrossfh.com/obituaries/william-elliott
LOCATION:Maplewood Cemetery 216 W McDonald  Marion IL 62959
GEO:37.7433442;-88.9302739
END:VEVENT
END:VCALENDAR