BEGIN:VCALENDAR
VERSION:2.0
PRODID:-//Tukios.com/
BEGIN:VEVENT
UID:822d72ca-23c7-4d28-9b75-d104a6712b8c@www.binkleyrossfh.com
DTSTAMP:20260422T032718Z
DTSTART:20260503T170000Z
DTEND:20260503T183000Z
SUMMARY:Celebration of Life
DESCRIPTION:
URL:https://www.binkleyrossfh.com/obituaries/eric-pulley
LOCATION:Goddard Chapel 1341 Rose Hill Rd  Marion IL 62959
GEO:37.7307798;-88.932611
END:VEVENT
END:VCALENDAR