BEGIN:VCALENDAR
VERSION:2.0
PRODID:-//Tukios.com/
BEGIN:VEVENT
UID:c4043a8f-793a-431c-8c59-ba9672a89496@www.binkleyrossfh.com
DTSTAMP:20260426T002601Z
DTSTART:20260428T170000Z
DTEND:20260428T180000Z
SUMMARY:Funeral Service
DESCRIPTION:
URL:https://www.binkleyrossfh.com/obituaries/beverly-roland
LOCATION:Blue Funeral Home 1704 N Court Street  Marion IL 62959
GEO:37.7479422;-88.9332301
END:VEVENT
END:VCALENDAR