BEGIN:VCALENDAR
VERSION:2.0
PRODID:-//Tukios.com/
BEGIN:VEVENT
UID:636f0246-8118-4fde-b058-0be9500e8c05@www.binkleyrossfh.com
DTSTAMP:20260426T002407Z
DTSTART:20260428T150000Z
DTEND:20260428T170000Z
SUMMARY:Visitation
DESCRIPTION:
URL:https://www.binkleyrossfh.com/obituaries/beverly-roland
LOCATION:Blue Funeral Home 1704 N Court Street  Marion IL 62959
GEO:37.7479422;-88.9332301
END:VEVENT
END:VCALENDAR